BEGIN:VCALENDAR
VERSION:2.0
PRODID:-//Goldgrube//myauktion.com//AT
CALSCALE:GREGORIAN
BEGIN:VEVENT
DTSTART:20260508T111900
DTEND:20260508T111930
LOCATION:Gewerbepark 13, 8562 Mooskirchen
DTSTAMP:20260425T015250
SUMMARY:MyAuktion: Ablauf Artikel Nr. 523536 ILINK MULTIMATCH A/S Reifen 175/65 R14 82T
URL;VALUE=URI:https://www.myauktion.com/versteigerung7666-position2444392-ilink-multimatch-a-s-reifen-175-65-r14-82t.php
DESCRIPTION:
UID:myauktion-7666-2444392
BEGIN:VALARM
ACTION:DISPLAY
DESCRIPTION:
TRIGGER:-PT10M
END:VALARM
END:VEVENT
END:VCALENDAR