BEGIN:VCALENDAR
VERSION:2.0
PRODID:-//Goldgrube//myauktion.com//AT
CALSCALE:GREGORIAN
BEGIN:VEVENT
DTSTART:20260508T112000
DTEND:20260508T112030
LOCATION:Gewerbepark 13, 8562 Mooskirchen
DTSTAMP:20260425T015247
SUMMARY:MyAuktion: Ablauf Artikel Nr. 523537 Hankook Kinergy 4S² 185/60R15 88H XL
URL;VALUE=URI:https://www.myauktion.com/versteigerung7666-position2444393-hankook-kinergy-4s-185-60r15-88h-xl.php
DESCRIPTION:
UID:myauktion-7666-2444393
BEGIN:VALARM
ACTION:DISPLAY
DESCRIPTION:
TRIGGER:-PT10M
END:VALARM
END:VEVENT
END:VCALENDAR