BEGIN:VCALENDAR
VERSION:2.0
PRODID:-//Goldgrube//myauktion.com//AT
CALSCALE:GREGORIAN
BEGIN:VEVENT
DTSTART:20260508T112200
DTEND:20260508T112230
LOCATION:Gewerbepark 13, 8562 Mooskirchen
DTSTAMP:20260424T180141
SUMMARY:MyAuktion: Ablauf Artikel Nr. 523539 Hankook Ventus Prime 3 215/55 R17 94V
URL;VALUE=URI:https://www.myauktion.com/versteigerung7666-position2444395-hankook-ventus-prime-3-215-55-r17-94v.php
DESCRIPTION:
UID:myauktion-7666-2444395
BEGIN:VALARM
ACTION:DISPLAY
DESCRIPTION:
TRIGGER:-PT10M
END:VALARM
END:VEVENT
END:VCALENDAR