BEGIN:VCALENDAR
VERSION:2.0
PRODID:-//Goldgrube//myauktion.com//AT
CALSCALE:GREGORIAN
BEGIN:VEVENT
DTSTART:20260508T112400
DTEND:20260508T112430
LOCATION:Gewerbepark 13, 8562 Mooskirchen
DTSTAMP:20260425T015304
SUMMARY:MyAuktion: Ablauf Artikel Nr. 523541 Hankook Winter i*cept EVO 3 235/50R20 104W XL
URL;VALUE=URI:https://www.myauktion.com/versteigerung7666-position2444397-hankook-winter-icept-evo-3-235-50r20-104w-xl.php
DESCRIPTION:<div> Kompletttrad mit C33 Felgen in schwarz, 8. 5x20 ET45.</div>
UID:myauktion-7666-2444397
BEGIN:VALARM
ACTION:DISPLAY
DESCRIPTION:<div> Kompletttrad mit C33 Felgen in schwarz, 8. 5x20 ET45.</div>
TRIGGER:-PT10M
END:VALARM
END:VEVENT
END:VCALENDAR