BEGIN:VCALENDAR
VERSION:2.0
PRODID:-//Goldgrube//myauktion.com//AT
CALSCALE:GREGORIAN
BEGIN:VEVENT
DTSTART:20260508T112600
DTEND:20260508T112630
LOCATION:Gewerbepark 13, 8562 Mooskirchen
DTSTAMP:20260424T180141
SUMMARY:MyAuktion: Ablauf Artikel Nr. 523543 Hankook Winter i*cept RS3 215/55R17 98V XL
URL;VALUE=URI:https://www.myauktion.com/versteigerung7666-position2444399-hankook-winter-icept-rs3-215-55r17-98v-xl.php
DESCRIPTION:
UID:myauktion-7666-2444399
BEGIN:VALARM
ACTION:DISPLAY
DESCRIPTION:
TRIGGER:-PT10M
END:VALARM
END:VEVENT
END:VCALENDAR