BEGIN:VCALENDAR
VERSION:2.0
PRODID:-//Goldgrube//myauktion.com//AT
CALSCALE:GREGORIAN
BEGIN:VEVENT
DTSTART:20260508T112700
DTEND:20260508T112730
LOCATION:Gewerbepark 13, 8562 Mooskirchen
DTSTAMP:20260425T015250
SUMMARY:MyAuktion: Ablauf Artikel Nr. 523544 GOODRIDE ALL Season Elite 215/60R17
URL;VALUE=URI:https://www.myauktion.com/versteigerung7666-position2444400-goodride-all-season-elite-215-60r17.php
DESCRIPTION:
UID:myauktion-7666-2444400
BEGIN:VALARM
ACTION:DISPLAY
DESCRIPTION:
TRIGGER:-PT10M
END:VALARM
END:VEVENT
END:VCALENDAR