BEGIN:VCALENDAR
VERSION:2.0
PRODID:-//Goldgrube//myauktion.com//AT
CALSCALE:GREGORIAN
BEGIN:VEVENT
DTSTART:20260508T112800
DTEND:20260508T112830
LOCATION:Gewerbepark 13, 8562 Mooskirchen
DTSTAMP:20260425T015258
SUMMARY:MyAuktion: Ablauf Artikel Nr. 523545 Kumho Solus 4S HA32 175/65 R14
URL;VALUE=URI:https://www.myauktion.com/versteigerung7666-position2444401-kumho-solus-4s-ha32-175-65-r14.php
DESCRIPTION:2 Stück Kumho Reifen, Profil sichtbar
UID:myauktion-7666-2444401
BEGIN:VALARM
ACTION:DISPLAY
DESCRIPTION:2 Stück Kumho Reifen, Profil sichtbar
TRIGGER:-PT10M
END:VALARM
END:VEVENT
END:VCALENDAR