BEGIN:VCALENDAR
VERSION:2.0
PRODID:-//Goldgrube//myauktion.com//AT
CALSCALE:GREGORIAN
BEGIN:VEVENT
DTSTART:20260508T112900
DTEND:20260508T112930
LOCATION:Gewerbepark 13, 8562 Mooskirchen
DTSTAMP:20260425T015257
SUMMARY:MyAuktion: Ablauf Artikel Nr. 523546 Goodyear Vector 4Seasons Gen-3 175/65 R14
URL;VALUE=URI:https://www.myauktion.com/versteigerung7666-position2444402-goodyear-vector-4seasons-gen-3-175-65-r14.php
DESCRIPTION:2er Set
UID:myauktion-7666-2444402
BEGIN:VALARM
ACTION:DISPLAY
DESCRIPTION:2er Set
TRIGGER:-PT10M
END:VALARM
END:VEVENT
END:VCALENDAR