BEGIN:VCALENDAR
VERSION:2.0
PRODID:-//Goldgrube//myauktion.com//AT
CALSCALE:GREGORIAN
BEGIN:VEVENT
DTSTART:20260508T113000
DTEND:20260508T113030
LOCATION:Gewerbepark 13, 8562 Mooskirchen
DTSTAMP:20260425T015304
SUMMARY:MyAuktion: Ablauf Artikel Nr. 523547 Continental WinterContact TS 870 185/50 R16
URL;VALUE=URI:https://www.myauktion.com/versteigerung7666-position2444403-continental-wintercontact-ts-870-185-50-r16.php
DESCRIPTION:1 Stück Reifen, Profil sichtbar, Geräuschpegel 71 dB, Energieeffizienzklasse D.
UID:myauktion-7666-2444403
BEGIN:VALARM
ACTION:DISPLAY
DESCRIPTION:1 Stück Reifen, Profil sichtbar, Geräuschpegel 71 dB, Energieeffizienzklasse D.
TRIGGER:-PT10M
END:VALARM
END:VEVENT
END:VCALENDAR