BEGIN:VCALENDAR
VERSION:2.0
PRODID:-//Goldgrube//myauktion.com//AT
CALSCALE:GREGORIAN
BEGIN:VEVENT
DTSTART:20260508T113200
DTEND:20260508T113230
LOCATION:Gewerbepark 13, 8562 Mooskirchen
DTSTAMP:20260425T015256
SUMMARY:MyAuktion: Ablauf Artikel Nr. 523549 Continental WinterContact 185/60 R 15 T
URL;VALUE=URI:https://www.myauktion.com/versteigerung7666-position2444405-continental-wintercontact-185-60-r-15-t.php
DESCRIPTION:
UID:myauktion-7666-2444405
BEGIN:VALARM
ACTION:DISPLAY
DESCRIPTION:
TRIGGER:-PT10M
END:VALARM
END:VEVENT
END:VCALENDAR