BEGIN:VCALENDAR
VERSION:2.0
PRODID:-//Goldgrube//myauktion.com//AT
CALSCALE:GREGORIAN
BEGIN:VEVENT
DTSTART:20260508T113300
DTEND:20260508T113330
LOCATION:Gewerbepark 13, 8562 Mooskirchen
DTSTAMP:20260425T015248
SUMMARY:MyAuktion: Ablauf Artikel Nr. 523550 Falken ZK 100 215/50 R18
URL;VALUE=URI:https://www.myauktion.com/versteigerung7666-position2444406-falken-zk-100-215-50-r18.php
DESCRIPTION:
UID:myauktion-7666-2444406
BEGIN:VALARM
ACTION:DISPLAY
DESCRIPTION:
TRIGGER:-PT10M
END:VALARM
END:VEVENT
END:VCALENDAR