BEGIN:VCALENDAR
VERSION:2.0
PRODID:-//Goldgrube//myauktion.com//AT
CALSCALE:GREGORIAN
BEGIN:VEVENT
DTSTART:20260508T113500
DTEND:20260508T113530
LOCATION:Gewerbepark 13, 8562 Mooskirchen
DTSTAMP:20260425T015247
SUMMARY:MyAuktion: Ablauf Artikel Nr. 523552 Michelin Alpin 6 195/65 R15
URL;VALUE=URI:https://www.myauktion.com/versteigerung7666-position2444408-michelin-alpin-6-195-65-r15.php
DESCRIPTION:
UID:myauktion-7666-2444408
BEGIN:VALARM
ACTION:DISPLAY
DESCRIPTION:
TRIGGER:-PT10M
END:VALARM
END:VEVENT
END:VCALENDAR