BEGIN:VCALENDAR
VERSION:2.0
PRODID:-//Goldgrube//myauktion.com//AT
CALSCALE:GREGORIAN
BEGIN:VEVENT
DTSTART:20260508T113700
DTEND:20260508T113730
LOCATION:Gewerbepark 13, 8562 Mooskirchen
DTSTAMP:20260424T180136
SUMMARY:MyAuktion: Ablauf Artikel Nr. 523554 Triangle SeasonX 235/40R19 96Y
URL;VALUE=URI:https://www.myauktion.com/versteigerung7666-position2444410-triangle-seasonx-235-40r19-96y.php
DESCRIPTION:
UID:myauktion-7666-2444410
BEGIN:VALARM
ACTION:DISPLAY
DESCRIPTION:
TRIGGER:-PT10M
END:VALARM
END:VEVENT
END:VCALENDAR