BEGIN:VCALENDAR
VERSION:2.0
PRODID:-//Goldgrube//myauktion.com//AT
CALSCALE:GREGORIAN
BEGIN:VEVENT
DTSTART:20260508T113800
DTEND:20260508T113830
LOCATION:Gewerbepark 13, 8562 Mooskirchen
DTSTAMP:20260424T180135
SUMMARY:MyAuktion: Ablauf Artikel Nr. 523555 Goodyear Reifen 175/65 R14
URL;VALUE=URI:https://www.myauktion.com/versteigerung7666-position2444411-goodyear-reifen-175-65-r14.php
DESCRIPTION:
UID:myauktion-7666-2444411
BEGIN:VALARM
ACTION:DISPLAY
DESCRIPTION:
TRIGGER:-PT10M
END:VALARM
END:VEVENT
END:VCALENDAR