BEGIN:VCALENDAR
VERSION:2.0
PRODID:-//Goldgrube//myauktion.com//AT
CALSCALE:GREGORIAN
BEGIN:VEVENT
DTSTART:20260508T113900
DTEND:20260508T113930
LOCATION:Gewerbepark 13, 8562 Mooskirchen
DTSTAMP:20260424T180136
SUMMARY:MyAuktion: Ablauf Artikel Nr. 523556 Vredestein Quatrac Pro+ 235/45 R 21 XL
URL;VALUE=URI:https://www.myauktion.com/versteigerung7666-position2444412-vredestein-quatrac-pro-235-45-r-21-xl.php
DESCRIPTION:Reifen mit der Größe 235/45 R 21 XL, Tragfähigkeitsindex 101 Y, extra load
UID:myauktion-7666-2444412
BEGIN:VALARM
ACTION:DISPLAY
DESCRIPTION:Reifen mit der Größe 235/45 R 21 XL, Tragfähigkeitsindex 101 Y, extra load
TRIGGER:-PT10M
END:VALARM
END:VEVENT
END:VCALENDAR