BEGIN:VCALENDAR
VERSION:2.0
PRODID:-//Goldgrube//myauktion.com//AT
CALSCALE:GREGORIAN
BEGIN:VEVENT
DTSTART:20260508T114000
DTEND:20260508T114030
LOCATION:Gewerbepark 13, 8562 Mooskirchen
DTSTAMP:20260424T180137
SUMMARY:MyAuktion: Ablauf Artikel Nr. 523557 GOODYEAR VECTOR 4SEASONS Gen-3 275/35R19 100Y XL
URL;VALUE=URI:https://www.myauktion.com/versteigerung7666-position2444413-goodyear-vector-4seasons-gen-3-275-35r19-100y-xl.php
DESCRIPTION:
UID:myauktion-7666-2444413
BEGIN:VALARM
ACTION:DISPLAY
DESCRIPTION:
TRIGGER:-PT10M
END:VALARM
END:VEVENT
END:VCALENDAR