BEGIN:VCALENDAR
VERSION:2.0
PRODID:-//Goldgrube//myauktion.com//AT
CALSCALE:GREGORIAN
BEGIN:VEVENT
DTSTART:20260508T114100
DTEND:20260508T114130
LOCATION:Gewerbepark 13, 8562 Mooskirchen
DTSTAMP:20260424T180135
SUMMARY:MyAuktion: Ablauf Artikel Nr. 523558 Hankook Winter i*cept RS3 165/70 R14 81T
URL;VALUE=URI:https://www.myauktion.com/versteigerung7666-position2444414-hankook-winter-icept-rs3-165-70-r14-81t.php
DESCRIPTION:
UID:myauktion-7666-2444414
BEGIN:VALARM
ACTION:DISPLAY
DESCRIPTION:
TRIGGER:-PT10M
END:VALARM
END:VEVENT
END:VCALENDAR