BEGIN:VCALENDAR
VERSION:2.0
PRODID:-//Goldgrube//myauktion.com//AT
CALSCALE:GREGORIAN
BEGIN:VEVENT
DTSTART:20260508T114300
DTEND:20260508T114330
LOCATION:Gewerbepark 13, 8562 Mooskirchen
DTSTAMP:20260424T180138
SUMMARY:MyAuktion: Ablauf Artikel Nr. 523560 Fulda Sportcontrol 2 225/40 R18 92Y XL
URL;VALUE=URI:https://www.myauktion.com/versteigerung7666-position2444416-fulda-sportcontrol-2-225-40-r18-92y-xl.php
DESCRIPTION:
UID:myauktion-7666-2444416
BEGIN:VALARM
ACTION:DISPLAY
DESCRIPTION:
TRIGGER:-PT10M
END:VALARM
END:VEVENT
END:VCALENDAR