BEGIN:VCALENDAR
VERSION:2.0
PRODID:-//Goldgrube//myauktion.com//AT
CALSCALE:GREGORIAN
BEGIN:VEVENT
DTSTART:20260508T114400
DTEND:20260508T114430
LOCATION:Gewerbepark 13, 8562 Mooskirchen
DTSTAMP:20260424T180136
SUMMARY:MyAuktion: Ablauf Artikel Nr. 523561 Goodyear Reifen 205/55 R16
URL;VALUE=URI:https://www.myauktion.com/versteigerung7666-position2444417-goodyear-reifen-205-55-r16.php
DESCRIPTION:
UID:myauktion-7666-2444417
BEGIN:VALARM
ACTION:DISPLAY
DESCRIPTION:
TRIGGER:-PT10M
END:VALARM
END:VEVENT
END:VCALENDAR