BEGIN:VCALENDAR
VERSION:2.0
PRODID:-//Goldgrube//myauktion.com//AT
CALSCALE:GREGORIAN
BEGIN:VEVENT
DTSTART:20260508T114700
DTEND:20260508T114730
LOCATION:Gewerbepark 13, 8562 Mooskirchen
DTSTAMP:20260424T180139
SUMMARY:MyAuktion: Ablauf Artikel Nr. 523564 Pirelli Scorpion Winter 255/55 R19 XL
URL;VALUE=URI:https://www.myauktion.com/versteigerung7666-position2444420-pirelli-scorpion-winter-255-55-r19-xl.php
DESCRIPTION:
UID:myauktion-7666-2444420
BEGIN:VALARM
ACTION:DISPLAY
DESCRIPTION:
TRIGGER:-PT10M
END:VALARM
END:VEVENT
END:VCALENDAR