BEGIN:VCALENDAR
VERSION:2.0
PRODID:-//Goldgrube//myauktion.com//AT
CALSCALE:GREGORIAN
BEGIN:VEVENT
DTSTART:20260508T114800
DTEND:20260508T114830
LOCATION:Gewerbepark 13, 8562 Mooskirchen
DTSTAMP:20260424T180135
SUMMARY:MyAuktion: Ablauf Artikel Nr. 523565 Dunlop Sport Maxx ST Reifen 295/30 R20 10Y
URL;VALUE=URI:https://www.myauktion.com/versteigerung7666-position2444421-dunlop-sport-maxx-st-reifen-295-30-r20-10y.php
DESCRIPTION:
UID:myauktion-7666-2444421
BEGIN:VALARM
ACTION:DISPLAY
DESCRIPTION:
TRIGGER:-PT10M
END:VALARM
END:VEVENT
END:VCALENDAR