BEGIN:VCALENDAR
VERSION:2.0
PRODID:-//Goldgrube//myauktion.com//AT
CALSCALE:GREGORIAN
BEGIN:VEVENT
DTSTART:20260508T114900
DTEND:20260508T114930
LOCATION:Gewerbepark 13, 8562 Mooskirchen
DTSTAMP:20260424T180142
SUMMARY:MyAuktion: Ablauf Artikel Nr. 523566 Vredestein Wintrac 215/70 R 16
URL;VALUE=URI:https://www.myauktion.com/versteigerung7666-position2444422-vredestein-wintrac-215-70-r-16.php
DESCRIPTION:Reifen mit der Größe 215/70 R 16 und Tragfähigkeitsindex 100 H. Energieeffizienzklasse C, Nasshaftungsklasse B. DOT-Nummer: 023 DAB505 3124
UID:myauktion-7666-2444422
BEGIN:VALARM
ACTION:DISPLAY
DESCRIPTION:Reifen mit der Größe 215/70 R 16 und Tragfähigkeitsindex 100 H. Energieeffizienzklasse C, Nasshaftungsklasse B. DOT-Nummer: 023 DAB505 3124
TRIGGER:-PT10M
END:VALARM
END:VEVENT
END:VCALENDAR