BEGIN:VCALENDAR
VERSION:2.0
PRODID:-//Goldgrube//myauktion.com//AT
CALSCALE:GREGORIAN
BEGIN:VEVENT
DTSTART:20260508T115000
DTEND:20260508T115030
LOCATION:Gewerbepark 13, 8562 Mooskirchen
DTSTAMP:20260424T180138
SUMMARY:MyAuktion: Ablauf Artikel Nr. 523567 Falken Eurowinter HS02 Pro 235/45R18 98V XL
URL;VALUE=URI:https://www.myauktion.com/versteigerung7666-position2444423-falken-eurowinter-hs02-pro-235-45r18-98v-xl.php
DESCRIPTION:
UID:myauktion-7666-2444423
BEGIN:VALARM
ACTION:DISPLAY
DESCRIPTION:
TRIGGER:-PT10M
END:VALARM
END:VEVENT
END:VCALENDAR