BEGIN:VCALENDAR
VERSION:2.0
PRODID:-//Goldgrube//myauktion.com//AT
CALSCALE:GREGORIAN
BEGIN:VEVENT
DTSTART:20260508T115200
DTEND:20260508T115230
LOCATION:Gewerbepark 13, 8562 Mooskirchen
DTSTAMP:20260424T180137
SUMMARY:MyAuktion: Ablauf Artikel Nr. 523569 Hankook Kinergy 4S 175/55R15 77T
URL;VALUE=URI:https://www.myauktion.com/versteigerung7666-position2444424-hankook-kinergy-4s-175-55r15-77t.php
DESCRIPTION:
UID:myauktion-7666-2444424
BEGIN:VALARM
ACTION:DISPLAY
DESCRIPTION:
TRIGGER:-PT10M
END:VALARM
END:VEVENT
END:VCALENDAR