BEGIN:VCALENDAR
VERSION:2.0
PRODID:-//Goldgrube//myauktion.com//AT
CALSCALE:GREGORIAN
BEGIN:VEVENT
DTSTART:20260508T115300
DTEND:20260508T115330
LOCATION:Gewerbepark 13, 8562 Mooskirchen
DTSTAMP:20260424T180137
SUMMARY:MyAuktion: Ablauf Artikel Nr. 523570 FULDA KRISTALL MONTERO 165/65 R14 79T
URL;VALUE=URI:https://www.myauktion.com/versteigerung7666-position2444425-fulda-kristall-montero-165-65-r14-79t.php
DESCRIPTION:
UID:myauktion-7666-2444425
BEGIN:VALARM
ACTION:DISPLAY
DESCRIPTION:
TRIGGER:-PT10M
END:VALARM
END:VEVENT
END:VCALENDAR