BEGIN:VCALENDAR
VERSION:2.0
PRODID:-//Goldgrube//myauktion.com//AT
CALSCALE:GREGORIAN
BEGIN:VEVENT
DTSTART:20260508T115400
DTEND:20260508T115430
LOCATION:Gewerbepark 13, 8562 Mooskirchen
DTSTAMP:20260424T180137
SUMMARY:MyAuktion: Ablauf Artikel Nr. 523571 Hankook Winter i*cept RS3 195/65R15 91H
URL;VALUE=URI:https://www.myauktion.com/versteigerung7666-position2444426-hankook-winter-icept-rs3-195-65r15-91h.php
DESCRIPTION:2 Stück, Geräuschpegel: 72 dB, Energieeffizienzklasse: C, Nasshaftung: B
UID:myauktion-7666-2444426
BEGIN:VALARM
ACTION:DISPLAY
DESCRIPTION:2 Stück, Geräuschpegel: 72 dB, Energieeffizienzklasse: C, Nasshaftung: B
TRIGGER:-PT10M
END:VALARM
END:VEVENT
END:VCALENDAR