BEGIN:VCALENDAR
VERSION:2.0
PRODID:-//Goldgrube//myauktion.com//AT
CALSCALE:GREGORIAN
BEGIN:VEVENT
DTSTART:20260508T115500
DTEND:20260508T115530
LOCATION:Gewerbepark 13, 8562 Mooskirchen
DTSTAMP:20260424T180136
SUMMARY:MyAuktion: Ablauf Artikel Nr. 523572 Fulda Multicontrol 195/55R20 95H
URL;VALUE=URI:https://www.myauktion.com/versteigerung7666-position2444427-fulda-multicontrol-195-55r20-95h.php
DESCRIPTION:
UID:myauktion-7666-2444427
BEGIN:VALARM
ACTION:DISPLAY
DESCRIPTION:
TRIGGER:-PT10M
END:VALARM
END:VEVENT
END:VCALENDAR