BEGIN:VCALENDAR
VERSION:2.0
PRODID:-//Goldgrube//myauktion.com//AT
CALSCALE:GREGORIAN
BEGIN:VEVENT
DTSTART:20260508T115900
DTEND:20260508T115930
LOCATION:Gewerbepark 13, 8562 Mooskirchen
DTSTAMP:20260424T180136
SUMMARY:MyAuktion: Ablauf Artikel Nr. 523576 Yokohama BluEarth Winter WU7 195/65 R15
URL;VALUE=URI:https://www.myauktion.com/versteigerung7666-position2444431-yokohama-bluearth-winter-wu7-195-65-r15.php
DESCRIPTION:
UID:myauktion-7666-2444431
BEGIN:VALARM
ACTION:DISPLAY
DESCRIPTION:
TRIGGER:-PT10M
END:VALARM
END:VEVENT
END:VCALENDAR