BEGIN:VCALENDAR
VERSION:2.0
PRODID:-//Goldgrube//myauktion.com//AT
CALSCALE:GREGORIAN
BEGIN:VEVENT
DTSTART:20260508T120000
DTEND:20260508T120030
LOCATION:Gewerbepark 13, 8562 Mooskirchen
DTSTAMP:20260424T160252
SUMMARY:MyAuktion: Ablauf Artikel Nr. 523577 Nexen N Fera Sport 225/35 ZR19 88Y
URL;VALUE=URI:https://www.myauktion.com/versteigerung7666-position2444432-nexen-n-fera-sport-225-35-zr19-88y.php
DESCRIPTION:
UID:myauktion-7666-2444432
BEGIN:VALARM
ACTION:DISPLAY
DESCRIPTION:
TRIGGER:-PT10M
END:VALARM
END:VEVENT
END:VCALENDAR