BEGIN:VCALENDAR
VERSION:2.0
PRODID:-//Goldgrube//myauktion.com//AT
CALSCALE:GREGORIAN
BEGIN:VEVENT
DTSTART:20260508T120100
DTEND:20260508T120130
LOCATION:Gewerbepark 13, 8562 Mooskirchen
DTSTAMP:20260424T160246
SUMMARY:MyAuktion: Ablauf Artikel Nr. 523578 Kumho Solus HA32 155/80 R13 79T
URL;VALUE=URI:https://www.myauktion.com/versteigerung7666-position2444433-kumho-solus-ha32-155-80-r13-79t.php
DESCRIPTION:
UID:myauktion-7666-2444433
BEGIN:VALARM
ACTION:DISPLAY
DESCRIPTION:
TRIGGER:-PT10M
END:VALARM
END:VEVENT
END:VCALENDAR