BEGIN:VCALENDAR
VERSION:2.0
PRODID:-//Goldgrube//myauktion.com//AT
CALSCALE:GREGORIAN
BEGIN:VEVENT
DTSTART:20260508T120200
DTEND:20260508T120230
LOCATION:Gewerbepark 13, 8562 Mooskirchen
DTSTAMP:20260424T160241
SUMMARY:MyAuktion: Ablauf Artikel Nr. 523579 BMW Alufelgen Pirelli Reifen 275/45 R20 110V
URL;VALUE=URI:https://www.myauktion.com/versteigerung7666-position2444434-bmw-alufelgen-pirelli-reifen-275-45-r20-110v.php
DESCRIPTION:Reifenmaß: 275/45 R20. DOT: 110V M+S
UID:myauktion-7666-2444434
BEGIN:VALARM
ACTION:DISPLAY
DESCRIPTION:Reifenmaß: 275/45 R20. DOT: 110V M+S
TRIGGER:-PT10M
END:VALARM
END:VEVENT
END:VCALENDAR