BEGIN:VCALENDAR
VERSION:2.0
PRODID:-//Goldgrube//myauktion.com//AT
CALSCALE:GREGORIAN
BEGIN:VEVENT
DTSTART:20260508T120300
DTEND:20260508T120330
LOCATION:Gewerbepark 13, 8562 Mooskirchen
DTSTAMP:20260424T160246
SUMMARY:MyAuktion: Ablauf Artikel Nr. 523580 Bridgestone Turanza All Season 6 225/45 R18
URL;VALUE=URI:https://www.myauktion.com/versteigerung7666-position2444435-bridgestone-turanza-all-season-6-225-45-r18.php
DESCRIPTION:
UID:myauktion-7666-2444435
BEGIN:VALARM
ACTION:DISPLAY
DESCRIPTION:
TRIGGER:-PT10M
END:VALARM
END:VEVENT
END:VCALENDAR