BEGIN:VCALENDAR
VERSION:2.0
PRODID:-//Goldgrube//myauktion.com//AT
CALSCALE:GREGORIAN
BEGIN:VEVENT
DTSTART:20260508T120400
DTEND:20260508T120430
LOCATION:Gewerbepark 13, 8562 Mooskirchen
DTSTAMP:20260424T160240
SUMMARY:MyAuktion: Ablauf Artikel Nr. 523581 Michelin Pilot Alpin PA4 245/40R17 95V
URL;VALUE=URI:https://www.myauktion.com/versteigerung7666-position2444436-michelin-pilot-alpin-pa4-245-40r17-95v.php
DESCRIPTION:
UID:myauktion-7666-2444436
BEGIN:VALARM
ACTION:DISPLAY
DESCRIPTION:
TRIGGER:-PT10M
END:VALARM
END:VEVENT
END:VCALENDAR