BEGIN:VCALENDAR
VERSION:2.0
PRODID:-//Goldgrube//myauktion.com//AT
CALSCALE:GREGORIAN
BEGIN:VEVENT
DTSTART:20260508T120500
DTEND:20260508T120530
LOCATION:Gewerbepark 13, 8562 Mooskirchen
DTSTAMP:20260424T160241
SUMMARY:MyAuktion: Ablauf Artikel Nr. 523582 Vredestein Quatrac Pro+ 255/55 R18 XL
URL;VALUE=URI:https://www.myauktion.com/versteigerung7666-position2444437-vredestein-quatrac-pro-255-55-r18-xl.php
DESCRIPTION:
UID:myauktion-7666-2444437
BEGIN:VALARM
ACTION:DISPLAY
DESCRIPTION:
TRIGGER:-PT10M
END:VALARM
END:VEVENT
END:VCALENDAR