BEGIN:VCALENDAR
VERSION:2.0
PRODID:-//Goldgrube//myauktion.com//AT
CALSCALE:GREGORIAN
BEGIN:VEVENT
DTSTART:20260508T120600
DTEND:20260508T120630
LOCATION:Gewerbepark 13, 8562 Mooskirchen
DTSTAMP:20260424T160239
SUMMARY:MyAuktion: Ablauf Artikel Nr. 523583 Kumho Wintercraft WP52 225/45 R17 91H
URL;VALUE=URI:https://www.myauktion.com/versteigerung7666-position2444438-kumho-wintercraft-wp52-225-45-r17-91h.php
DESCRIPTION:
UID:myauktion-7666-2444438
BEGIN:VALARM
ACTION:DISPLAY
DESCRIPTION:
TRIGGER:-PT10M
END:VALARM
END:VEVENT
END:VCALENDAR