BEGIN:VCALENDAR
VERSION:2.0
PRODID:-//Goldgrube//myauktion.com//AT
CALSCALE:GREGORIAN
BEGIN:VEVENT
DTSTART:20260508T120700
DTEND:20260508T120730
LOCATION:Gewerbepark 13, 8562 Mooskirchen
DTSTAMP:20260424T160239
SUMMARY:MyAuktion: Ablauf Artikel Nr. 523584 ROADX RXMOTION 4S 175/70 R14 88T XL
URL;VALUE=URI:https://www.myauktion.com/versteigerung7666-position2444439-roadx-rxmotion-4s-175-70-r14-88t-xl.php
DESCRIPTION:
UID:myauktion-7666-2444439
BEGIN:VALARM
ACTION:DISPLAY
DESCRIPTION:
TRIGGER:-PT10M
END:VALARM
END:VEVENT
END:VCALENDAR