BEGIN:VCALENDAR
VERSION:2.0
PRODID:-//Goldgrube//myauktion.com//AT
CALSCALE:GREGORIAN
BEGIN:VEVENT
DTSTART:20260508T120800
DTEND:20260508T120830
LOCATION:Gewerbepark 13, 8562 Mooskirchen
DTSTAMP:20260424T160256
SUMMARY:MyAuktion: Ablauf Artikel Nr. 523585 Hankook Ventus S1 evo SUV 255/45ZR20 925kg
URL;VALUE=URI:https://www.myauktion.com/versteigerung7666-position2444440-hankook-ventus-s1-evo-suv-255-45zr20-925kg.php
DESCRIPTION:Max. Last: 925 kg, Max. Druck: 340 kPa
UID:myauktion-7666-2444440
BEGIN:VALARM
ACTION:DISPLAY
DESCRIPTION:Max. Last: 925 kg, Max. Druck: 340 kPa
TRIGGER:-PT10M
END:VALARM
END:VEVENT
END:VCALENDAR