BEGIN:VCALENDAR
VERSION:2.0
PRODID:-//Goldgrube//myauktion.com//AT
CALSCALE:GREGORIAN
BEGIN:VEVENT
DTSTART:20260508T120900
DTEND:20260508T120930
LOCATION:Gewerbepark 13, 8562 Mooskirchen
DTSTAMP:20260424T222216
SUMMARY:MyAuktion: Ablauf Artikel Nr. 523586 Pirelli Winter Sottozero 3 215/55 R17
URL;VALUE=URI:https://www.myauktion.com/versteigerung7666-position2444441-pirelli-winter-sottozero-3-215-55-r17.php
DESCRIPTION:
UID:myauktion-7666-2444441
BEGIN:VALARM
ACTION:DISPLAY
DESCRIPTION:
TRIGGER:-PT10M
END:VALARM
END:VEVENT
END:VCALENDAR