BEGIN:VCALENDAR
VERSION:2.0
PRODID:-//Goldgrube//myauktion.com//AT
CALSCALE:GREGORIAN
BEGIN:VEVENT
DTSTART:20260508T121000
DTEND:20260508T121030
LOCATION:Gewerbepark 13, 8562 Mooskirchen
DTSTAMP:20260424T160255
SUMMARY:MyAuktion: Ablauf Artikel Nr. 523587 RADBURG Allrun-Pro 235/55 R17 103H
URL;VALUE=URI:https://www.myauktion.com/versteigerung7666-position2444442-radburg-allrun-pro-235-55-r17-103h.php
DESCRIPTION:
UID:myauktion-7666-2444442
BEGIN:VALARM
ACTION:DISPLAY
DESCRIPTION:
TRIGGER:-PT10M
END:VALARM
END:VEVENT
END:VCALENDAR