BEGIN:VCALENDAR
VERSION:2.0
PRODID:-//Goldgrube//myauktion.com//AT
CALSCALE:GREGORIAN
BEGIN:VEVENT
DTSTART:20260508T121100
DTEND:20260508T121130
LOCATION:Gewerbepark 13, 8562 Mooskirchen
DTSTAMP:20260424T160256
SUMMARY:MyAuktion: Ablauf Artikel Nr. 523588 Petlas Explero W671 Winterreifen 225/60 R18 104V
URL;VALUE=URI:https://www.myauktion.com/versteigerung7666-position2444443-petlas-explero-w671-winterreifen-225-60-r18-104v.php
DESCRIPTION:
UID:myauktion-7666-2444443
BEGIN:VALARM
ACTION:DISPLAY
DESCRIPTION:
TRIGGER:-PT10M
END:VALARM
END:VEVENT
END:VCALENDAR