BEGIN:VCALENDAR
VERSION:2.0
PRODID:-//Goldgrube//myauktion.com//AT
CALSCALE:GREGORIAN
BEGIN:VEVENT
DTSTART:20260508T121200
DTEND:20260508T121230
LOCATION:Gewerbepark 13, 8562 Mooskirchen
DTSTAMP:20260424T222218
SUMMARY:MyAuktion: Ablauf Artikel Nr. 523589 Hankook Reifen Ventus S1 evo 2 K117 225/45 R17
URL;VALUE=URI:https://www.myauktion.com/versteigerung7666-position2444444-hankook-reifen-ventus-s1-evo-2-k117-225-45-r17.php
DESCRIPTION:
UID:myauktion-7666-2444444
BEGIN:VALARM
ACTION:DISPLAY
DESCRIPTION:
TRIGGER:-PT10M
END:VALARM
END:VEVENT
END:VCALENDAR