BEGIN:VCALENDAR
VERSION:2.0
PRODID:-//Goldgrube//myauktion.com//AT
CALSCALE:GREGORIAN
BEGIN:VEVENT
DTSTART:20260508T121300
DTEND:20260508T121330
LOCATION:Gewerbepark 13, 8562 Mooskirchen
DTSTAMP:20260424T160243
SUMMARY:MyAuktion: Ablauf Artikel Nr. 523590 ATLAS All Season 215/55R17 98W
URL;VALUE=URI:https://www.myauktion.com/versteigerung7666-position2444445-atlas-all-season-215-55r17-98w.php
DESCRIPTION:Leistung: 98 W. Radial, tubeless
UID:myauktion-7666-2444445
BEGIN:VALARM
ACTION:DISPLAY
DESCRIPTION:Leistung: 98 W. Radial, tubeless
TRIGGER:-PT10M
END:VALARM
END:VEVENT
END:VCALENDAR