BEGIN:VCALENDAR
VERSION:2.0
PRODID:-//Goldgrube//myauktion.com//AT
CALSCALE:GREGORIAN
BEGIN:VEVENT
DTSTART:20260508T121400
DTEND:20260508T121430
LOCATION:Gewerbepark 13, 8562 Mooskirchen
DTSTAMP:20260424T222212
SUMMARY:MyAuktion: Ablauf Artikel Nr. 523591 Bridgestone Turanza T005 205/55 R16 94V
URL;VALUE=URI:https://www.myauktion.com/versteigerung7666-position2444446-bridgestone-turanza-t005-205-55-r16-94v.php
DESCRIPTION:2 Stück Reifen. Sichtbare Merkmale: 94V, EU-Energieeffizienzklasse B, Geräuschpegel 71 dB
UID:myauktion-7666-2444446
BEGIN:VALARM
ACTION:DISPLAY
DESCRIPTION:2 Stück Reifen. Sichtbare Merkmale: 94V, EU-Energieeffizienzklasse B, Geräuschpegel 71 dB
TRIGGER:-PT10M
END:VALARM
END:VEVENT
END:VCALENDAR