BEGIN:VCALENDAR
VERSION:2.0
PRODID:-//Goldgrube//myauktion.com//AT
CALSCALE:GREGORIAN
BEGIN:VEVENT
DTSTART:20260508T121500
DTEND:20260508T121530
LOCATION:Gewerbepark 13, 8562 Mooskirchen
DTSTAMP:20260424T222214
SUMMARY:MyAuktion: Ablauf Artikel Nr. 523592 Hankook Winter i*cept RS3 205/60R16 92H
URL;VALUE=URI:https://www.myauktion.com/versteigerung7666-position2444447-hankook-winter-icept-rs3-205-60r16-92h.php
DESCRIPTION:2 Reifen. Größe: 205/60R16. DOT: 2825
UID:myauktion-7666-2444447
BEGIN:VALARM
ACTION:DISPLAY
DESCRIPTION:2 Reifen. Größe: 205/60R16. DOT: 2825
TRIGGER:-PT10M
END:VALARM
END:VEVENT
END:VCALENDAR