BEGIN:VCALENDAR
VERSION:2.0
PRODID:-//Goldgrube//myauktion.com//AT
CALSCALE:GREGORIAN
BEGIN:VEVENT
DTSTART:20260508T121800
DTEND:20260508T121830
LOCATION:Gewerbepark 13, 8562 Mooskirchen
DTSTAMP:20260424T160251
SUMMARY:MyAuktion: Ablauf Artikel Nr. 523595 Maxxis MA-SAS Reifen 255/65R16
URL;VALUE=URI:https://www.myauktion.com/versteigerung7666-position2444450-maxxis-ma-sas-reifen-255-65r16.php
DESCRIPTION:
UID:myauktion-7666-2444450
BEGIN:VALARM
ACTION:DISPLAY
DESCRIPTION:
TRIGGER:-PT10M
END:VALARM
END:VEVENT
END:VCALENDAR