BEGIN:VCALENDAR
VERSION:2.0
PRODID:-//Goldgrube//myauktion.com//AT
CALSCALE:GREGORIAN
BEGIN:VEVENT
DTSTART:20260508T121900
DTEND:20260508T121930
LOCATION:Gewerbepark 13, 8562 Mooskirchen
DTSTAMP:20260424T222216
SUMMARY:MyAuktion: Ablauf Artikel Nr. 523596 Sailun Atrezzo 195/50 R16 4 Seasons
URL;VALUE=URI:https://www.myauktion.com/versteigerung7666-position2444451-sailun-atrezzo-195-50-r16-4-seasons.php
DESCRIPTION:
UID:myauktion-7666-2444451
BEGIN:VALARM
ACTION:DISPLAY
DESCRIPTION:
TRIGGER:-PT10M
END:VALARM
END:VEVENT
END:VCALENDAR