BEGIN:VCALENDAR
VERSION:2.0
PRODID:-//Goldgrube//myauktion.com//AT
CALSCALE:GREGORIAN
BEGIN:VEVENT
DTSTART:20260508T122000
DTEND:20260508T122030
LOCATION:Gewerbepark 13, 8562 Mooskirchen
DTSTAMP:20260424T160253
SUMMARY:MyAuktion: Ablauf Artikel Nr. 523597 Continental VanContact Ultra Camper 215/70 R15 CP
URL;VALUE=URI:https://www.myauktion.com/versteigerung7666-position2444452-continental-vancontact-ultra-camper-215-70-r15-cp.php
DESCRIPTION:Reifenmaß: 215/70 R15, Tragfähigkeitsindex: 109/107 R, 8PR LRD. Geräuschpegel: 71 dB. Herstellungsdatum: 40
UID:myauktion-7666-2444452
BEGIN:VALARM
ACTION:DISPLAY
DESCRIPTION:Reifenmaß: 215/70 R15, Tragfähigkeitsindex: 109/107 R, 8PR LRD. Geräuschpegel: 71 dB. Herstellungsdatum: 40
TRIGGER:-PT10M
END:VALARM
END:VEVENT
END:VCALENDAR