BEGIN:VCALENDAR
VERSION:2.0
PRODID:-//Goldgrube//myauktion.com//AT
CALSCALE:GREGORIAN
BEGIN:VEVENT
DTSTART:20260508T122100
DTEND:20260508T122130
LOCATION:Gewerbepark 13, 8562 Mooskirchen
DTSTAMP:20260424T160253
SUMMARY:MyAuktion: Ablauf Artikel Nr. 523598 Nexen Winguard Sport 2 195/50 R16
URL;VALUE=URI:https://www.myauktion.com/versteigerung7666-position2444453-nexen-winguard-sport-2-195-50-r16.php
DESCRIPTION:
UID:myauktion-7666-2444453
BEGIN:VALARM
ACTION:DISPLAY
DESCRIPTION:
TRIGGER:-PT10M
END:VALARM
END:VEVENT
END:VCALENDAR