BEGIN:VCALENDAR
VERSION:2.0
PRODID:-//Goldgrube//myauktion.com//AT
CALSCALE:GREGORIAN
BEGIN:VEVENT
DTSTART:20260508T122200
DTEND:20260508T122230
LOCATION:Gewerbepark 13, 8562 Mooskirchen
DTSTAMP:20260424T160253
SUMMARY:MyAuktion: Ablauf Artikel Nr. 523599 Goodride Zuper Snow Z-507 235/55 R19
URL;VALUE=URI:https://www.myauktion.com/versteigerung7666-position2444454-goodride-zuper-snow-z-507-235-55-r19.php
DESCRIPTION:
UID:myauktion-7666-2444454
BEGIN:VALARM
ACTION:DISPLAY
DESCRIPTION:
TRIGGER:-PT10M
END:VALARM
END:VEVENT
END:VCALENDAR