BEGIN:VCALENDAR
VERSION:2.0
PRODID:-//Goldgrube//myauktion.com//AT
CALSCALE:GREGORIAN
BEGIN:VEVENT
DTSTART:20260508T122500
DTEND:20260508T122530
LOCATION:Gewerbepark 13, 8562 Mooskirchen
DTSTAMP:20260424T160244
SUMMARY:MyAuktion: Ablauf Artikel Nr. 525549 Pirelli Cinturato All Season SF 3 235/50 R19
URL;VALUE=URI:https://www.myauktion.com/versteigerung7666-position2444457-pirelli-cinturato-all-season-sf-3-235-50-r19.php
DESCRIPTION:
UID:myauktion-7666-2444457
BEGIN:VALARM
ACTION:DISPLAY
DESCRIPTION:
TRIGGER:-PT10M
END:VALARM
END:VEVENT
END:VCALENDAR